BEGIN:VCALENDAR
VERSION:2.0
PRODID:-//Polo per l'infanzia San Vincenzo De Paoli - ECPv6.15.20//NONSGML v1.0//EN
CALSCALE:GREGORIAN
METHOD:PUBLISH
X-WR-CALNAME:Polo per l'infanzia San Vincenzo De Paoli
X-ORIGINAL-URL:https://www.scuolasanvincenzopertusella.it
X-WR-CALDESC:Eventi per Polo per l'infanzia San Vincenzo De Paoli
REFRESH-INTERVAL;VALUE=DURATION:PT1H
X-Robots-Tag:noindex
X-PUBLISHED-TTL:PT1H
BEGIN:VTIMEZONE
TZID:Europe/Paris
BEGIN:DAYLIGHT
TZOFFSETFROM:+0100
TZOFFSETTO:+0200
TZNAME:CEST
DTSTART:20230326T010000
END:DAYLIGHT
BEGIN:STANDARD
TZOFFSETFROM:+0200
TZOFFSETTO:+0100
TZNAME:CET
DTSTART:20231029T010000
END:STANDARD
BEGIN:DAYLIGHT
TZOFFSETFROM:+0100
TZOFFSETTO:+0200
TZNAME:CEST
DTSTART:20240331T010000
END:DAYLIGHT
BEGIN:STANDARD
TZOFFSETFROM:+0200
TZOFFSETTO:+0100
TZNAME:CET
DTSTART:20241027T010000
END:STANDARD
BEGIN:DAYLIGHT
TZOFFSETFROM:+0100
TZOFFSETTO:+0200
TZNAME:CEST
DTSTART:20250330T010000
END:DAYLIGHT
BEGIN:STANDARD
TZOFFSETFROM:+0200
TZOFFSETTO:+0100
TZNAME:CET
DTSTART:20251026T010000
END:STANDARD
BEGIN:DAYLIGHT
TZOFFSETFROM:+0100
TZOFFSETTO:+0200
TZNAME:CEST
DTSTART:20260329T010000
END:DAYLIGHT
BEGIN:STANDARD
TZOFFSETFROM:+0200
TZOFFSETTO:+0100
TZNAME:CET
DTSTART:20261025T010000
END:STANDARD
END:VTIMEZONE
BEGIN:VEVENT
DTSTART;TZID=Europe/Paris:20251201T180000
DTEND;TZID=Europe/Paris:20251201T200000
DTSTAMP:20260420T065147
CREATED:20251118T100507Z
LAST-MODIFIED:20251118T101955Z
UID:2232-1764612000-1764619200@www.scuolasanvincenzopertusella.it
SUMMARY:Open Day 2025 Offerta Formativa
DESCRIPTION:PRESENTAZIONE OFFERTA FORMATIVA PER I GENITORI\n18\,00-19\,00 Infanzia\n19\,00-20\,00 Primavera \nScarica la locandina OPEN DAY 2025
URL:https://www.scuolasanvincenzopertusella.it/evento/open-day-offerta-formativa/
LOCATION:Varese
ATTACH;FMTTYPE=application/pdf:https://www.scuolasanvincenzopertusella.it/wp-content/uploads/2025/11/OPEN-DAY-2025-man-100x138-1.pdf
END:VEVENT
BEGIN:VEVENT
DTSTART;TZID=Europe/Paris:20251129T153000
DTEND;TZID=Europe/Paris:20251129T180000
DTSTAMP:20260420T065147
CREATED:20251118T101749Z
LAST-MODIFIED:20251118T101749Z
UID:2238-1764430200-1764439200@www.scuolasanvincenzopertusella.it
SUMMARY:4° edizione MERCATINO di NATALE
DESCRIPTION:La Scuola San Vincenzo de Paoli organizza sabato 29 novembre un grande mercatino di Natale! \nL’ingresso è libero\,\naperto a tutti dalle 15:30 alle 18:00 e potrete acquistare i meravigliosi lavoretti fatti dai nostri/vostri bambini. \nScarica la locandina MERCATINO DI NATALE 2025
URL:https://www.scuolasanvincenzopertusella.it/evento/4-edizione-mercatino-di-natale/
LOCATION:Varese
ATTACH;FMTTYPE=application/pdf:https://www.scuolasanvincenzopertusella.it/wp-content/uploads/2025/11/mercatino-2025-724x1024-_-1.pdf
END:VEVENT
BEGIN:VEVENT
DTSTART;TZID=Europe/Paris:20251002T144500
DTEND;TZID=Europe/Paris:20251002T154500
DTSTAMP:20260420T065147
CREATED:20250925T150945Z
LAST-MODIFIED:20250925T150945Z
UID:2216-1759416300-1759419900@www.scuolasanvincenzopertusella.it
SUMMARY:Festa dei NONNI
DESCRIPTION:Festa dei NONNI dalle ore 14:45 alle ore 15:45 \nMERENDA tutti insieme! \nScarica la locandina FESTA DEI NONNI 2025
URL:https://www.scuolasanvincenzopertusella.it/evento/festa-dei-nonni/
LOCATION:Scuola San Vincenzo Pertusella\, Via Sant'Alessandro\, 800\, Caronno Pertusella\, Varese\, 21042\, Italy
ATTACH;FMTTYPE=application/pdf:https://www.scuolasanvincenzopertusella.it/wp-content/uploads/2025/09/Yellow-Minimalist-Grandparents-Day.pdf
END:VEVENT
BEGIN:VEVENT
DTSTART;TZID=Europe/Paris:20250221T080000
DTEND;TZID=Europe/Paris:20250221T080000
DTSTAMP:20260420T065147
CREATED:20250210T162712Z
LAST-MODIFIED:20250210T162712Z
UID:2170-1740124800-1740124800@www.scuolasanvincenzopertusella.it
SUMMARY:Gita MUBA Sez. Primavera e Piccoli
DESCRIPTION:Il Museo dei Bambini di Milano è un centro di educazione e promozione culturale rivolto ad insegnanti\, educatori\, cultori della materia\, mediatori culturali e curiosi! \nDopo un primo momento di accoglienza iniziale gli educatori favoriranno  il processo di gioco dei bambini e allestiranno lo spazio in maniera funzionale all’esplorazione dei materiali. \n  \nSito MUBA
URL:https://www.scuolasanvincenzopertusella.it/evento/gita-muba-sez-primavera-e-piccoli/
LOCATION:Varese
ATTACH;FMTTYPE=image/jpeg:https://www.scuolasanvincenzopertusella.it/wp-content/uploads/2024/11/MUBA.jpg
END:VEVENT
BEGIN:VEVENT
DTSTART;TZID=Europe/Paris:20250205T090000
DTEND;TZID=Europe/Paris:20250205T114500
DTSTAMP:20260420T065147
CREATED:20250123T070548Z
LAST-MODIFIED:20250123T070548Z
UID:2164-1738746000-1738755900@www.scuolasanvincenzopertusella.it
SUMMARY:Uscita Didattica Grandi DINOS ALIVE
DESCRIPTION:Andremo a scoprire cosa significa osservare le più grandi creature che hanno camminato sulla terra! \nA “Dinos Alive”\, incontreremo oltre 40 esemplari a grandezza naturale di specie famose e meno conosciute come il T-Rex\, lo Stegosauro\, il Velociraptor e il Suchomimus. \nSito DINOS ALIVE
URL:https://www.scuolasanvincenzopertusella.it/evento/uscita-didattica-grandi-dinos-alive/
LOCATION:Varese
ATTACH;FMTTYPE=image/jpeg:https://www.scuolasanvincenzopertusella.it/wp-content/uploads/2025/01/Mostra-Dinos-Alive-a-Milano-l-Esperienza-Immersiva-sui-Dinosauri-a-Milano.jpg
END:VEVENT
BEGIN:VEVENT
DTSTART;TZID=Europe/Paris:20241214T160000
DTEND;TZID=Europe/Paris:20241214T174500
DTSTAMP:20260420T065147
CREATED:20241014T081603Z
LAST-MODIFIED:20241014T081744Z
UID:2122-1734192000-1734198300@www.scuolasanvincenzopertusella.it
SUMMARY:Open Day Sezione Primavera
DESCRIPTION:16\,00 Ritrovo e presentazione progetto educativo \n17\,00 Visita struttura \n17\,45 Aperitivo di saluto \nScarica la locandina OPEN DAY 2024
URL:https://www.scuolasanvincenzopertusella.it/evento/open-day-sezione-primavera/
LOCATION:Scuola San Vincenzo Pertusella\, Via Sant'Alessandro\, 800\, Caronno Pertusella\, Varese\, 21042\, Italy
ATTACH;FMTTYPE=image/jpeg:https://www.scuolasanvincenzopertusella.it/wp-content/uploads/2024/10/OPEN_DAY_2024-scaled.jpg
END:VEVENT
BEGIN:VEVENT
DTSTART;TZID=Europe/Paris:20241214T100000
DTEND;TZID=Europe/Paris:20241214T114500
DTSTAMP:20260420T065147
CREATED:20241009T091604Z
LAST-MODIFIED:20241009T092017Z
UID:2081-1734170400-1734176700@www.scuolasanvincenzopertusella.it
SUMMARY:Open Day Scuola Dell'infanzia
DESCRIPTION:10\,00 Ritrovo e presentazione progetto educativo\n11\,00 Visita struttura\n11\,45 Aperitivo di saluto \nScarica la locandina OPEN DAY 2024
URL:https://www.scuolasanvincenzopertusella.it/evento/open-day-scuola-dellinfanzia/
LOCATION:Scuola San Vincenzo Pertusella\, Via Sant'Alessandro\, 800\, Caronno Pertusella\, Varese\, 21042\, Italy
ATTACH;FMTTYPE=image/jpeg:https://www.scuolasanvincenzopertusella.it/wp-content/uploads/2024/10/OPEN_DAY_2024-scaled.jpg
END:VEVENT
BEGIN:VEVENT
DTSTART;TZID=Europe/Paris:20241130T153000
DTEND;TZID=Europe/Paris:20241130T180000
DTSTAMP:20260420T065147
CREATED:20241003T074718Z
LAST-MODIFIED:20241118T135938Z
UID:2043-1732980600-1732989600@www.scuolasanvincenzopertusella.it
SUMMARY:Mercatino di Natale
DESCRIPTION:Terza Edizione del Mercatino di Natale\, dalle 15:30 alle 18:00 Salone di via Trieste \nScarica la locandina MERCATINO2024
URL:https://www.scuolasanvincenzopertusella.it/evento/mercatino-di-natale/
LOCATION:Scuola San Vincenzo Pertusella\, Via Sant'Alessandro\, 800\, Caronno Pertusella\, Varese\, 21042\, Italy
ATTACH;FMTTYPE=image/jpeg:https://www.scuolasanvincenzopertusella.it/wp-content/uploads/2024/10/mercatino-2024-724x1024-_resized_page-0001.jpg
END:VEVENT
BEGIN:VEVENT
DTSTART;TZID=Europe/Paris:20241127T080000
DTEND;TZID=Europe/Paris:20241127T080000
DTSTAMP:20260420T065147
CREATED:20241119T072135Z
LAST-MODIFIED:20241119T072135Z
UID:2151-1732694400-1732694400@www.scuolasanvincenzopertusella.it
SUMMARY:Gita MUBA Età 4 anni
DESCRIPTION:Il Museo dei Bambini di Milano è un centro di educazione e promozione culturale rivolto ad insegnanti\, educatori\, cultori della materia\, mediatori culturali e curiosi! \nATTIVITA’ “ REMIDA: MACRO – COSTRUTTIVITA’ ” \nAlla scoperta dell’equilibrio per andare sempre più in alto grazie ai materiali di\nscarto aziendale. \nSito MUBA
URL:https://www.scuolasanvincenzopertusella.it/evento/gita-muba-eta-4-anni/
LOCATION:Varese
ATTACH;FMTTYPE=image/jpeg:https://www.scuolasanvincenzopertusella.it/wp-content/uploads/2024/11/MUBA.jpg
END:VEVENT
BEGIN:VEVENT
DTSTART;TZID=Europe/Paris:20241122T080000
DTEND;TZID=Europe/Paris:20241122T120000
DTSTAMP:20260420T065147
CREATED:20241118T164638Z
LAST-MODIFIED:20241118T164638Z
UID:2142-1732262400-1732276800@www.scuolasanvincenzopertusella.it
SUMMARY:Gita MUBA Età 5 anni
DESCRIPTION:Il Museo dei Bambini di Milano è un centro di educazione e promozione culturale rivolto ad insegnanti\, educatori\, cultori della materia\, mediatori culturali e curiosi! \nATTIVITA’ “ REMIDA: QUADRI MATERICI “ \nMateriali di scarto aziendale al servizio dell’arte \nSito MUBA
URL:https://www.scuolasanvincenzopertusella.it/evento/gita-muba-eta-5-anni/
LOCATION:Varese
ATTACH;FMTTYPE=image/jpeg:https://www.scuolasanvincenzopertusella.it/wp-content/uploads/2024/11/MUBA.jpg
END:VEVENT
BEGIN:VEVENT
DTSTART;VALUE=DATE:20240903
DTEND;VALUE=DATE:20240905
DTSTAMP:20260420T065147
CREATED:20240911T044643Z
LAST-MODIFIED:20241003T075727Z
UID:1839-1725325200-1725411599@www.scuolasanvincenzopertusella.it
SUMMARY:Apertura Scuola
DESCRIPTION:Finalmente apre la scuola!!
URL:https://www.scuolasanvincenzopertusella.it/evento/apertura-scuola/
LOCATION:Scuola San Vincenzo Pertusella\, Via Sant'Alessandro\, 800\, Caronno Pertusella\, Varese\, 21042\, Italy
ATTACH;FMTTYPE=image/jpeg:https://www.scuolasanvincenzopertusella.it/wp-content/uploads/2024/06/ESTERNO-SEZ.-PRIMAVERA-3-1.jpg
END:VEVENT
END:VCALENDAR