BEGIN:VCALENDAR
VERSION:2.0
PRODID:-//Polo per l'infanzia San Vincenzo De Paoli - ECPv6.15.20//NONSGML v1.0//EN
CALSCALE:GREGORIAN
METHOD:PUBLISH
X-ORIGINAL-URL:https://www.scuolasanvincenzopertusella.it
X-WR-CALDESC:Eventi per Polo per l'infanzia San Vincenzo De Paoli
REFRESH-INTERVAL;VALUE=DURATION:PT1H
X-Robots-Tag:noindex
X-PUBLISHED-TTL:PT1H
BEGIN:VTIMEZONE
TZID:Europe/Paris
BEGIN:DAYLIGHT
TZOFFSETFROM:+0100
TZOFFSETTO:+0200
TZNAME:CEST
DTSTART:20240331T010000
END:DAYLIGHT
BEGIN:STANDARD
TZOFFSETFROM:+0200
TZOFFSETTO:+0100
TZNAME:CET
DTSTART:20241027T010000
END:STANDARD
BEGIN:DAYLIGHT
TZOFFSETFROM:+0100
TZOFFSETTO:+0200
TZNAME:CEST
DTSTART:20250330T010000
END:DAYLIGHT
BEGIN:STANDARD
TZOFFSETFROM:+0200
TZOFFSETTO:+0100
TZNAME:CET
DTSTART:20251026T010000
END:STANDARD
BEGIN:DAYLIGHT
TZOFFSETFROM:+0100
TZOFFSETTO:+0200
TZNAME:CEST
DTSTART:20260329T010000
END:DAYLIGHT
BEGIN:STANDARD
TZOFFSETFROM:+0200
TZOFFSETTO:+0100
TZNAME:CET
DTSTART:20261025T010000
END:STANDARD
END:VTIMEZONE
BEGIN:VEVENT
DTSTART;TZID=Europe/Paris:20251213T100000
DTEND;TZID=Europe/Paris:20251213T120000
DTSTAMP:20260420T012323
CREATED:20251118T101038Z
LAST-MODIFIED:20251118T101038Z
UID:2236-1765620000-1765627200@www.scuolasanvincenzopertusella.it
SUMMARY:Open Day 2025 Visita alla struttura
DESCRIPTION:LABORATORI PER I BAMBINI E VISITA STRUTTURA\n10\,00-12\,00\nInfanzia e Primavera \nScarica la locandina OPEN DAY 2025
URL:https://www.scuolasanvincenzopertusella.it/evento/open-day-2025-visita-alla-struttura/
LOCATION:Varese
ATTACH;FMTTYPE=image/webp:https://www.scuolasanvincenzopertusella.it/wp-content/uploads/2025/10/OPEN-DAY-2025-scaled.webp
END:VEVENT
END:VCALENDAR